BEGIN:VCALENDAR
VERSION:2.0
X-WR-CALNAME:Ferrovial - Eventos
X-ORIGINAL-URL:https://www.ferrovial.com/en/ical
X-WR-CALDESC:Ferrovial - Eventos
PRODID:324557
BEGIN:VEVENT
DTSTART:20260317T000000
DTEND:20260318T000000
SUMMARY:J.P. Morgan Industrials Conference
LOCATION:Fairmont Washington D.C. Georgetown
DESCRIPTION:Fairmont Washington D.C. Georgetown
PRIORITY:3
END:VEVENT
END:VCALENDAR
